BEGIN:VCALENDAR
VERSION:2.0
PRODID:icalendar-ruby
CALSCALE:GREGORIAN
METHOD:PUBLISH
BEGIN:VEVENT
DTSTAMP:20260423T105956Z
UID:130-366693@crossandcrown.org
DTSTART:20260511T163000Z
DTEND:20260511T173000Z
CLASS:PUBLIC
CREATED:20260420T131035
DESCRIPTION:On May 11th\, we will meet at Cantina Louie's in Sycamore Commo
 ns.  \n2225 Matthews Township Pkwy C\, Matthews\, NC 28105\nLadies Lunch
  Bunch is a monthly gathering for women of Cross and Crown to enjoy good f
 ood\, meaningful conversation\, and community.  All women are welcome—c
 ome as you are and join us!
LAST-MODIFIED:20260420T131035
LOCATION:Cantina Louie's
SUMMARY:Ladies Lunch Bunch
URL;VALUE=URI:https://www.crossandcrown.org/events/ladies-lunch-bunch/2026-
 05-11
ATTACH;FILENAME=Lunch-Bunch-3.png;FMTTYPE=image/png:https://dq5pwpg1q8ru0.c
 loudfront.net/2026/04/20/17/09/56/8b4b5517-362a-4a39-ba21-770ab5e1b2b0/Lun
 ch-Bunch-3.png
END:VEVENT
END:VCALENDAR
