BEGIN:VCALENDAR
VERSION:2.0
PRODID:icalendar-ruby
CALSCALE:GREGORIAN
METHOD:PUBLISH
BEGIN:VEVENT
DTSTAMP:20260422T093718Z
UID:137-354766@crossandcrown.org
DTSTART:20260503T153000Z
DTEND:20260503T180000Z
CLASS:PUBLIC
CREATED:20260413T120314
DESCRIPTION:This is an interactive experience led by one of our members\, s
 haring their gifts with the younger generation. Each month\, our children 
 will experience the Biblical foundations through hands-on fun activities. 
LAST-MODIFIED:20260413T120314
LOCATION:Cross & Crown
SUMMARY:Rooted Sundays
URL;VALUE=URI:https://www.crossandcrown.org/events/rooted-sundays--137/2026
 -05-03
ATTACH;FILENAME=Rooted-2.png;FMTTYPE=image/png:https://dq5pwpg1q8ru0.cloudf
 ront.net/2026/04/13/16/03/13/d6ea02f2-dffc-4f2e-a5b8-0fd92e5cd2c2/Rooted-2
 .png
END:VEVENT
END:VCALENDAR
