BEGIN:VCALENDAR
VERSION:2.0
PRODID:icalendar-ruby
CALSCALE:GREGORIAN
METHOD:PUBLISH
BEGIN:VEVENT
DTSTAMP:20260421T072206Z
UID:152-366694@crossandcrown.org
DTSTART:20260502T140000Z
DTEND:20260502T180000Z
CLASS:PUBLIC
CREATED:20260420T131344
DESCRIPTION:Join us for a sweet spring outing! On May 2 from 10:00 AM–2:0
 0 PM\, all families are invited to gather at Hall Family Farm for a fun-fi
 lled day of strawberry picking. Enjoy time together in the fresh air\, mak
 e memories\, and bring home some delicious berries. We hope to see you the
 re!\nUse the link below to let us know you are attending.
LAST-MODIFIED:20260420T131344
LOCATION:Hall Family Farm
SUMMARY:Strawberry Picking
URL;VALUE=URI:https://www.crossandcrown.org/events/strawberry-picking--152/
 2026-05-02
ATTACH;FILENAME=Strawberry-Picking.png;FMTTYPE=image/png:https://dq5pwpg1q8
 ru0.cloudfront.net/2026/04/20/17/13/44/d49f3c10-2505-4aeb-bad0-c95e2c37688
 e/Strawberry-Picking.png
END:VEVENT
END:VCALENDAR
