BEGIN:VCALENDAR
VERSION:2.0
PRODID:icalendar-ruby
CALSCALE:GREGORIAN
METHOD:PUBLISH
BEGIN:VEVENT
DTSTAMP:20260422T083329Z
UID:140-357819@crossandcrown.org
DTSTART:20260422T220000Z
DTEND:20260422T230000Z
CLASS:PUBLIC
CREATED:20260415T081923
DESCRIPTION:Come join us for a home-cooked meal at church—a time to share
  not only delicious food but also the gift of fellowship. Bring your appet
 ite and come hungry for community—because there’s always a place for y
 ou here.
LAST-MODIFIED:20260415T081923
LOCATION:Fellowship Hall
SUMMARY:Wednesday Night Happenings
URL;VALUE=URI:https://www.crossandcrown.org/events/wednesday-night-happenin
 gs--140/2026-04-22
ATTACH;FILENAME=3-4-3.png;FMTTYPE=image/png:https://dq5pwpg1q8ru0.cloudfron
 t.net/2026/04/13/16/12/26/0d0a0283-09df-4f3a-ac85-9cb2b48991a5/3-4-3.png
END:VEVENT
END:VCALENDAR
