BEGIN:VCALENDAR
VERSION:2.0
PRODID:icalendar-ruby
CALSCALE:GREGORIAN
METHOD:PUBLISH
BEGIN:VEVENT
DTSTAMP:20260421T071822Z
UID:146-357820@crossandcrown.org
DTSTART:20260429T220000Z
DTEND:20260429T230000Z
CLASS:PUBLIC
CREATED:20260415T082239
DESCRIPTION:Come join us for a home-cooked meal at church—a time to share
  not only delicious food but also the gift of fellowship. Bring your appet
 ite and come hungry for community—because there’s always a place for y
 ou here.
LAST-MODIFIED:20260415T082239
LOCATION:Fellowship Hall
SUMMARY:Wednesday Night Happenings
URL;VALUE=URI:https://www.crossandcrown.org/events/wednesday-night-happenin
 gs--146/2026-04-29
ATTACH;FILENAME=Ham.png;FMTTYPE=image/png:https://dq5pwpg1q8ru0.cloudfront.
 net/2026/04/15/12/22/39/3d974ddb-1beb-460f-8560-2806b43f7516/Ham.png
END:VEVENT
END:VCALENDAR
