BEGIN:VCALENDAR
VERSION:2.0
PRODID:icalendar-ruby
CALSCALE:GREGORIAN
METHOD:PUBLISH
BEGIN:VEVENT
DTSTAMP:20260421T071842Z
UID:147-357821@crossandcrown.org
DTSTART:20260506T220000Z
DTEND:20260506T230000Z
CLASS:PUBLIC
CREATED:20260415T082556
DESCRIPTION:Join us for a home-cooked meal and great conversation!
LAST-MODIFIED:20260415T082556
LOCATION:Fellowship Hall
SUMMARY:Wednesday Night Happenings
URL;VALUE=URI:https://www.crossandcrown.org/events/wednesday-night-happenin
 gs--147/2026-05-06
ATTACH;FILENAME=BBQ-Chicken.png;FMTTYPE=image/png:https://dq5pwpg1q8ru0.clo
 udfront.net/2026/04/15/12/25/56/abba3dd7-376e-41fa-85d2-6d6cd95b0bf9/BBQ-C
 hicken.png
END:VEVENT
END:VCALENDAR
